BEGIN:VCALENDAR
VERSION:2.0
PRODID:-//Round Rock EmployeeNet - ECPv6.15.13//NONSGML v1.0//EN
CALSCALE:GREGORIAN
METHOD:PUBLISH

X-ORIGINAL-URL:https://employees.roundrocktexas.gov
X-WR-CALDESC:Events for Round Rock EmployeeNet
REFRESH-INTERVAL;VALUE=DURATION:PT1H
X-Robots-Tag:noindex
X-PUBLISHED-TTL:PT1H
BEGIN:VTIMEZONE
TZID:America/Chicago
BEGIN:DAYLIGHT
TZOFFSETFROM:-0600
TZOFFSETTO:-0500
TZNAME:CDT
DTSTART:20250309T080000
END:DAYLIGHT
BEGIN:STANDARD
TZOFFSETFROM:-0500
TZOFFSETTO:-0600
TZNAME:CST
DTSTART:20251102T070000
END:STANDARD
BEGIN:DAYLIGHT
TZOFFSETFROM:-0600
TZOFFSETTO:-0500
TZNAME:CDT
DTSTART:20260308T080000
END:DAYLIGHT
BEGIN:STANDARD
TZOFFSETFROM:-0500
TZOFFSETTO:-0600
TZNAME:CST
DTSTART:20261101T070000
END:STANDARD
BEGIN:DAYLIGHT
TZOFFSETFROM:-0600
TZOFFSETTO:-0500
TZNAME:CDT
DTSTART:20270314T080000
END:DAYLIGHT
BEGIN:STANDARD
TZOFFSETFROM:-0500
TZOFFSETTO:-0600
TZNAME:CST
DTSTART:20271107T070000
END:STANDARD
END:VTIMEZONE
BEGIN:VEVENT
DTSTART;TZID=America/Chicago:20260415T140000
DTEND;TZID=America/Chicago:20260415T140000
DTSTAMP:20260422T215105
CREATED:20260402T211322Z
LAST-MODIFIED:20260402T211323Z
UID:10000118-1776261600-1776261600@employees.roundrocktexas.gov
SUMMARY:TMRS informational webinar
DESCRIPTION:Learn more about your TMRS benefits. \nRegister: https://tmrs.zoom.us/
URL:https://employees.roundrocktexas.gov/event/tmrs-informational-webinar/
LOCATION:TX
END:VEVENT
BEGIN:VEVENT
DTSTART;TZID=America/Chicago:20260416T110000
DTEND;TZID=America/Chicago:20260416T120000
DTSTAMP:20260422T215105
CREATED:20260402T211530Z
LAST-MODIFIED:20260402T211531Z
UID:10000119-1776337200-1776340800@employees.roundrocktexas.gov
SUMMARY:AllOne Health: Digital Detox webinar
DESCRIPTION:Join an AllOne Wellness Coach as we explore technology overload\, understand the social impact\, and learn how you can investigate your habits and set boundaries to effectively balance time of connectedness. \nRegister: https://register.gotowebinar.com
URL:https://employees.roundrocktexas.gov/event/allone-health-digital-detox-webinar/
LOCATION:TX
END:VEVENT
END:VCALENDAR