BEGIN:VCALENDAR
VERSION:2.0
PRODID:-//Round Rock EmployeeNet - ECPv6.15.13//NONSGML v1.0//EN
CALSCALE:GREGORIAN
METHOD:PUBLISH

X-ORIGINAL-URL:https://employees.roundrocktexas.gov
X-WR-CALDESC:Events for Round Rock EmployeeNet
REFRESH-INTERVAL;VALUE=DURATION:PT1H
X-Robots-Tag:noindex
X-PUBLISHED-TTL:PT1H
BEGIN:VTIMEZONE
TZID:America/Chicago
BEGIN:DAYLIGHT
TZOFFSETFROM:-0600
TZOFFSETTO:-0500
TZNAME:CDT
DTSTART:20240310T080000
END:DAYLIGHT
BEGIN:STANDARD
TZOFFSETFROM:-0500
TZOFFSETTO:-0600
TZNAME:CST
DTSTART:20241103T070000
END:STANDARD
BEGIN:DAYLIGHT
TZOFFSETFROM:-0600
TZOFFSETTO:-0500
TZNAME:CDT
DTSTART:20250309T080000
END:DAYLIGHT
BEGIN:STANDARD
TZOFFSETFROM:-0500
TZOFFSETTO:-0600
TZNAME:CST
DTSTART:20251102T070000
END:STANDARD
BEGIN:DAYLIGHT
TZOFFSETFROM:-0600
TZOFFSETTO:-0500
TZNAME:CDT
DTSTART:20260308T080000
END:DAYLIGHT
BEGIN:STANDARD
TZOFFSETFROM:-0500
TZOFFSETTO:-0600
TZNAME:CST
DTSTART:20261101T070000
END:STANDARD
END:VTIMEZONE
BEGIN:VEVENT
DTSTART;TZID=America/Chicago:20251205T120000
DTEND;TZID=America/Chicago:20251205T120000
DTSTAMP:20260422T173926
CREATED:20240911T165337Z
LAST-MODIFIED:20240911T165337Z
UID:10000061-1764936000-1764936000@employees.roundrocktexas.gov
SUMMARY:Time Sheet Due for 12/12/25 Pay Date
DESCRIPTION:Time sheets are due by noon for pay period: 11/23/25 – 12/06/25
URL:https://employees.roundrocktexas.gov/event/time-sheet-due-for-12-12-25-pay-date/
LOCATION:Round Rock\, TX\, 78664\, United States
GEO:30.5041381;-97.6602365
END:VEVENT
BEGIN:VEVENT
DTSTART;TZID=America/Chicago:20251212T080000
DTEND;TZID=America/Chicago:20251212T170000
DTSTAMP:20260422T173926
CREATED:20240911T165503Z
LAST-MODIFIED:20240911T165503Z
UID:10000062-1765526400-1765558800@employees.roundrocktexas.gov
SUMMARY:Pay Date 12/12/25
DESCRIPTION:Pay day covering the period: 11/23/25 – 12/06/25
URL:https://employees.roundrocktexas.gov/event/pay-date-12-12-25/
LOCATION:Round Rock\, TX\, 78664\, United States
GEO:30.5041381;-97.6602365
END:VEVENT
BEGIN:VEVENT
DTSTART;TZID=America/Chicago:20251217T120000
DTEND;TZID=America/Chicago:20251217T120000
DTSTAMP:20260422T173926
CREATED:20240911T165645Z
LAST-MODIFIED:20240911T165645Z
UID:10000063-1765972800-1765972800@employees.roundrocktexas.gov
SUMMARY:Time Sheets Due Early 12/26/25 Pay Date
DESCRIPTION:Time sheets due by noon for pay period: 12/06/25 – 12/20/25
URL:https://employees.roundrocktexas.gov/event/time-sheets-due-early-12-26-25-pay-date/
LOCATION:Round Rock\, TX\, 78664\, United States
GEO:30.5041381;-97.6602365
END:VEVENT
BEGIN:VEVENT
DTSTART;TZID=America/Chicago:20251226T080000
DTEND;TZID=America/Chicago:20251226T170000
DTSTAMP:20260422T173926
CREATED:20240911T165754Z
LAST-MODIFIED:20240911T165754Z
UID:10000064-1766736000-1766768400@employees.roundrocktexas.gov
SUMMARY:Pay Date 12/26/25
DESCRIPTION:Pay day covering the period: 12/07/25 – 12 20/25
URL:https://employees.roundrocktexas.gov/event/pay-date-12-26-25/
LOCATION:Round Rock\, TX\, 78664\, United States
GEO:30.5041381;-97.6602365
END:VEVENT
END:VCALENDAR