BEGIN:VCALENDAR
VERSION:2.0
PRODID:-//Round Rock EmployeeNet - ECPv6.15.13//NONSGML v1.0//EN
CALSCALE:GREGORIAN
METHOD:PUBLISH

X-ORIGINAL-URL:https://employees.roundrocktexas.gov
X-WR-CALDESC:Events for Round Rock EmployeeNet
REFRESH-INTERVAL;VALUE=DURATION:PT1H
X-Robots-Tag:noindex
X-PUBLISHED-TTL:PT1H
BEGIN:VTIMEZONE
TZID:America/Chicago
BEGIN:DAYLIGHT
TZOFFSETFROM:-0600
TZOFFSETTO:-0500
TZNAME:CDT
DTSTART:20240310T080000
END:DAYLIGHT
BEGIN:STANDARD
TZOFFSETFROM:-0500
TZOFFSETTO:-0600
TZNAME:CST
DTSTART:20241103T070000
END:STANDARD
BEGIN:DAYLIGHT
TZOFFSETFROM:-0600
TZOFFSETTO:-0500
TZNAME:CDT
DTSTART:20250309T080000
END:DAYLIGHT
BEGIN:STANDARD
TZOFFSETFROM:-0500
TZOFFSETTO:-0600
TZNAME:CST
DTSTART:20251102T070000
END:STANDARD
BEGIN:DAYLIGHT
TZOFFSETFROM:-0600
TZOFFSETTO:-0500
TZNAME:CDT
DTSTART:20260308T080000
END:DAYLIGHT
BEGIN:STANDARD
TZOFFSETFROM:-0500
TZOFFSETTO:-0600
TZNAME:CST
DTSTART:20261101T070000
END:STANDARD
END:VTIMEZONE
BEGIN:VEVENT
DTSTART;TZID=America/Chicago:20251226T080000
DTEND;TZID=America/Chicago:20251226T170000
DTSTAMP:20260422T172809
CREATED:20240911T165754Z
LAST-MODIFIED:20240911T165754Z
UID:10000064-1766736000-1766768400@employees.roundrocktexas.gov
SUMMARY:Pay Date 12/26/25
DESCRIPTION:Pay day covering the period: 12/07/25 – 12 20/25
URL:https://employees.roundrocktexas.gov/event/pay-date-12-26-25/
LOCATION:Round Rock\, TX\, 78664\, United States
GEO:30.5041381;-97.6602365
END:VEVENT
BEGIN:VEVENT
DTSTART;TZID=America/Chicago:20251217T120000
DTEND;TZID=America/Chicago:20251217T120000
DTSTAMP:20260422T172809
CREATED:20240911T165645Z
LAST-MODIFIED:20240911T165645Z
UID:10000063-1765972800-1765972800@employees.roundrocktexas.gov
SUMMARY:Time Sheets Due Early 12/26/25 Pay Date
DESCRIPTION:Time sheets due by noon for pay period: 12/06/25 – 12/20/25
URL:https://employees.roundrocktexas.gov/event/time-sheets-due-early-12-26-25-pay-date/
LOCATION:Round Rock\, TX\, 78664\, United States
GEO:30.5041381;-97.6602365
END:VEVENT
BEGIN:VEVENT
DTSTART;TZID=America/Chicago:20251212T080000
DTEND;TZID=America/Chicago:20251212T170000
DTSTAMP:20260422T172809
CREATED:20240911T165503Z
LAST-MODIFIED:20240911T165503Z
UID:10000062-1765526400-1765558800@employees.roundrocktexas.gov
SUMMARY:Pay Date 12/12/25
DESCRIPTION:Pay day covering the period: 11/23/25 – 12/06/25
URL:https://employees.roundrocktexas.gov/event/pay-date-12-12-25/
LOCATION:Round Rock\, TX\, 78664\, United States
GEO:30.5041381;-97.6602365
END:VEVENT
BEGIN:VEVENT
DTSTART;TZID=America/Chicago:20251205T120000
DTEND;TZID=America/Chicago:20251205T120000
DTSTAMP:20260422T172809
CREATED:20240911T165337Z
LAST-MODIFIED:20240911T165337Z
UID:10000061-1764936000-1764936000@employees.roundrocktexas.gov
SUMMARY:Time Sheet Due for 12/12/25 Pay Date
DESCRIPTION:Time sheets are due by noon for pay period: 11/23/25 – 12/06/25
URL:https://employees.roundrocktexas.gov/event/time-sheet-due-for-12-12-25-pay-date/
LOCATION:Round Rock\, TX\, 78664\, United States
GEO:30.5041381;-97.6602365
END:VEVENT
BEGIN:VEVENT
DTSTART;TZID=America/Chicago:20251126T080000
DTEND;TZID=America/Chicago:20251126T170000
DTSTAMP:20260422T172809
CREATED:20240911T165134Z
LAST-MODIFIED:20240911T165134Z
UID:10000060-1764144000-1764176400@employees.roundrocktexas.gov
SUMMARY:Pay Date  11/26/25
DESCRIPTION:Pay Day covering the period: 11/09/25 – 11/22/25
URL:https://employees.roundrocktexas.gov/event/pay-date-11-26-25/
LOCATION:Round Rock\, TX\, 78664\, United States
GEO:30.5041381;-97.6602365
END:VEVENT
BEGIN:VEVENT
DTSTART;TZID=America/Chicago:20251119T120000
DTEND;TZID=America/Chicago:20251119T120000
DTSTAMP:20260422T172809
CREATED:20240911T164948Z
LAST-MODIFIED:20240911T164948Z
UID:10000059-1763553600-1763553600@employees.roundrocktexas.gov
SUMMARY:Time Sheets Due Early for 11/26/25 Pay Date
DESCRIPTION:Time sheets are due by noon for pay period: 11/09/25 – 11/22/25
URL:https://employees.roundrocktexas.gov/event/time-sheets-due-early-for-11-26-25-pay-date/
LOCATION:Round Rock\, TX\, 78664\, United States
GEO:30.5041381;-97.6602365
END:VEVENT
BEGIN:VEVENT
DTSTART;TZID=America/Chicago:20251114T080000
DTEND;TZID=America/Chicago:20251114T170000
DTSTAMP:20260422T172809
CREATED:20240911T164615Z
LAST-MODIFIED:20240911T164615Z
UID:10000058-1763107200-1763139600@employees.roundrocktexas.gov
SUMMARY:Pay Date 11/14/25
DESCRIPTION:Pay day covering the period: 10/26/25 – 11/08/25
URL:https://employees.roundrocktexas.gov/event/pay-date-11-14-25/
LOCATION:Round Rock\, TX\, 78664\, United States
GEO:30.5041381;-97.6602365
END:VEVENT
BEGIN:VEVENT
DTSTART;TZID=America/Chicago:20251107T120000
DTEND;TZID=America/Chicago:20251107T120000
DTSTAMP:20260422T172809
CREATED:20240911T164422Z
LAST-MODIFIED:20240911T164422Z
UID:10000096-1762516800-1762516800@employees.roundrocktexas.gov
SUMMARY:Time Sheets due for 11/14/25 Pay Date
DESCRIPTION:Time sheets are due by noon for pay period: 10/26/25 – 11/08/25
URL:https://employees.roundrocktexas.gov/event/time-sheets-due-for-11-14-25-pay-date/
LOCATION:Round Rock\, TX\, 78664\, United States
GEO:30.5041381;-97.6602365
END:VEVENT
BEGIN:VEVENT
DTSTART;TZID=America/Chicago:20251031T080000
DTEND;TZID=America/Chicago:20251031T170000
DTSTAMP:20260422T172809
CREATED:20240911T164058Z
LAST-MODIFIED:20240911T164058Z
UID:10000097-1761897600-1761930000@employees.roundrocktexas.gov
SUMMARY:Pay Date 10/31/25
DESCRIPTION:Pay Day covering the period: 10/12/25 – 10/25/25
URL:https://employees.roundrocktexas.gov/event/pay-date-10-31-25/
LOCATION:Round Rock\, TX\, 78664\, United States
GEO:30.5041381;-97.6602365
END:VEVENT
BEGIN:VEVENT
DTSTART;TZID=America/Chicago:20251024T120000
DTEND;TZID=America/Chicago:20251024T120000
DTSTAMP:20260422T172809
CREATED:20240911T163946Z
LAST-MODIFIED:20240911T163946Z
UID:10000098-1761307200-1761307200@employees.roundrocktexas.gov
SUMMARY:Time Sheets Due for 10/31/25 Pay Date
DESCRIPTION:Time sheets due by noon for pay period: 10/12/25 – 10/25/25
URL:https://employees.roundrocktexas.gov/event/time-sheets-due-for-10-31-25-pay-date/
LOCATION:Round Rock\, TX\, 78664\, United States
GEO:30.5041381;-97.6602365
END:VEVENT
BEGIN:VEVENT
DTSTART;TZID=America/Chicago:20251017T120000
DTEND;TZID=America/Chicago:20251017T120000
DTSTAMP:20260422T172809
CREATED:20240911T163348Z
LAST-MODIFIED:20240911T163504Z
UID:10000100-1760702400-1760702400@employees.roundrocktexas.gov
SUMMARY:Pay Date 10/17/25
DESCRIPTION:Pay Day covering the period: 09/28/25 – 10/11/25
URL:https://employees.roundrocktexas.gov/event/time-sheet-due-for-10-17-25/
LOCATION:Round Rock\, TX\, 78664\, United States
GEO:30.5041381;-97.6602365
END:VEVENT
BEGIN:VEVENT
DTSTART;TZID=America/Chicago:20251010T120000
DTEND;TZID=America/Chicago:20251010T120000
DTSTAMP:20260422T172809
CREATED:20240911T163703Z
LAST-MODIFIED:20240911T163703Z
UID:10000099-1760097600-1760097600@employees.roundrocktexas.gov
SUMMARY:Time Sheets Due for Pay Date 10/17/25
DESCRIPTION:Time Sheets are due by noon for pay period: 09/28/25 – 10/11/25
URL:https://employees.roundrocktexas.gov/event/time-sheets-due-for-pay-date-10-17-25/
LOCATION:Round Rock\, TX\, 78664\, United States
GEO:30.5041381;-97.6602365
END:VEVENT
BEGIN:VEVENT
DTSTART;TZID=America/Chicago:20251003T080000
DTEND;TZID=America/Chicago:20251003T170000
DTSTAMP:20260422T172809
CREATED:20240911T163203Z
LAST-MODIFIED:20240911T163203Z
UID:10000101-1759478400-1759510800@employees.roundrocktexas.gov
SUMMARY:Pay Date 10/03/25
DESCRIPTION:Pay Day covering the period 09/14/25 – 09/27/25
URL:https://employees.roundrocktexas.gov/event/pay-date-10-03-25/
LOCATION:Round Rock\, TX\, 78664\, United States
GEO:30.5041381;-97.6602365
END:VEVENT
BEGIN:VEVENT
DTSTART;TZID=America/Chicago:20250926T120000
DTEND;TZID=America/Chicago:20250926T120000
DTSTAMP:20260422T172809
CREATED:20240911T162707Z
LAST-MODIFIED:20240911T162707Z
UID:10000102-1758888000-1758888000@employees.roundrocktexas.gov
SUMMARY:Time Sheets Due for 10/03/25 Pay Date
DESCRIPTION:Timesheets are due by noon for pay period: 09/14/25 – 09/27/25
URL:https://employees.roundrocktexas.gov/event/time-sheets-due-for-10-03-25-pay-date/
LOCATION:Round Rock\, TX\, 78664\, United States
GEO:30.5041381;-97.6602365
END:VEVENT
BEGIN:VEVENT
DTSTART;TZID=America/Chicago:20250919T080000
DTEND;TZID=America/Chicago:20250919T170000
DTSTAMP:20260422T172809
CREATED:20240911T162528Z
LAST-MODIFIED:20240911T162528Z
UID:10000103-1758268800-1758301200@employees.roundrocktexas.gov
SUMMARY:Pay Date 09/19/25
DESCRIPTION:Pay Day covering the period: 08/31/25 – 09/13/25
URL:https://employees.roundrocktexas.gov/event/pay-date-09-19-25/
LOCATION:Round Rock\, TX\, 78664\, United States
GEO:30.5041381;-97.6602365
END:VEVENT
BEGIN:VEVENT
DTSTART;TZID=America/Chicago:20250912T120000
DTEND;TZID=America/Chicago:20250912T120000
DTSTAMP:20260422T172809
CREATED:20240911T162414Z
LAST-MODIFIED:20240911T162414Z
UID:10000104-1757678400-1757678400@employees.roundrocktexas.gov
SUMMARY:Time Sheets Due for 09/19/25 Pay Date
DESCRIPTION:Timesheets are due by noon for payment period: 08/31/25 – 09/13/25
URL:https://employees.roundrocktexas.gov/event/time-sheets-due-for-09-19-25-pay-date/
LOCATION:Round Rock\, TX\, 78664\, United States
GEO:30.5041381;-97.6602365
END:VEVENT
BEGIN:VEVENT
DTSTART;TZID=America/Chicago:20250905T080000
DTEND;TZID=America/Chicago:20250905T170000
DTSTAMP:20260422T172809
CREATED:20240911T162202Z
LAST-MODIFIED:20240911T162202Z
UID:10000095-1757059200-1757091600@employees.roundrocktexas.gov
SUMMARY:Pay Date 09/05/25
DESCRIPTION:Pay day covering the period: 08/17/25 – 08/30/25
URL:https://employees.roundrocktexas.gov/event/pay-date-09-05-25/
LOCATION:Round Rock\, TX\, 78664\, United States
GEO:30.5041381;-97.6602365
END:VEVENT
BEGIN:VEVENT
DTSTART;TZID=America/Chicago:20250829T120000
DTEND;TZID=America/Chicago:20250829T120000
DTSTAMP:20260422T172809
CREATED:20240911T162040Z
LAST-MODIFIED:20240911T162040Z
UID:10000114-1756468800-1756468800@employees.roundrocktexas.gov
SUMMARY:Time Sheet Due for 09/05/25 Pay Date
DESCRIPTION:Timesheets are due by noon for pay period: 08/17/25 – 08/30/25
URL:https://employees.roundrocktexas.gov/event/time-sheet-due-for-09-05-25-pay-date/
LOCATION:Round Rock\, TX\, 78664\, United States
GEO:30.5041381;-97.6602365
END:VEVENT
BEGIN:VEVENT
DTSTART;TZID=America/Chicago:20250822T080000
DTEND;TZID=America/Chicago:20250822T170000
DTSTAMP:20260422T172809
CREATED:20240911T152359Z
LAST-MODIFIED:20240911T152359Z
UID:10000113-1755849600-1755882000@employees.roundrocktexas.gov
SUMMARY:Pay Date 08/22/25
DESCRIPTION:Pay Day covering the period: 08/03/25 – 08/16/25
URL:https://employees.roundrocktexas.gov/event/pay-date-08-22-25/
LOCATION:Round Rock\, TX\, 78664\, United States
GEO:30.5041381;-97.6602365
END:VEVENT
BEGIN:VEVENT
DTSTART;TZID=America/Chicago:20250815T120000
DTEND;TZID=America/Chicago:20250815T120000
DTSTAMP:20260422T172809
CREATED:20240911T152139Z
LAST-MODIFIED:20240911T161805Z
UID:10000112-1755259200-1755259200@employees.roundrocktexas.gov
SUMMARY:Time Sheets Due for Pay Date 08/22/25
DESCRIPTION:Timesheets are due by noon for pay period: 08/03/25 – 08/16/25
URL:https://employees.roundrocktexas.gov/event/time-sheets-due-2/
LOCATION:Round Rock\, TX\, 78664\, United States
GEO:30.5041381;-97.6602365
END:VEVENT
BEGIN:VEVENT
DTSTART;TZID=America/Chicago:20250808T080000
DTEND;TZID=America/Chicago:20250808T170000
DTSTAMP:20260422T172809
CREATED:20240911T151957Z
LAST-MODIFIED:20240911T151957Z
UID:10000111-1754640000-1754672400@employees.roundrocktexas.gov
SUMMARY:Pay Date 08/08/25
DESCRIPTION:Pay Day covering the period: 07/20/25 – 08/02/25
URL:https://employees.roundrocktexas.gov/event/pay-date-08-08-25/
LOCATION:Round Rock\, TX\, 78664\, United States
GEO:30.5041381;-97.6602365
END:VEVENT
BEGIN:VEVENT
DTSTART;TZID=America/Chicago:20250801T120000
DTEND;TZID=America/Chicago:20250801T120000
DTSTAMP:20260422T172809
CREATED:20240911T134750Z
LAST-MODIFIED:20240911T134750Z
UID:10000110-1754049600-1754049600@employees.roundrocktexas.gov
SUMMARY:Time Sheet Due for 08/08/25 Pay date
DESCRIPTION:Timesheets are due by noon for pay period: 07/20/25 – 08/02/25
URL:https://employees.roundrocktexas.gov/event/time-sheet-due-for-08-08-25-pay-date/
LOCATION:Round Rock\, TX\, 78664\, United States
GEO:30.5041381;-97.6602365
END:VEVENT
BEGIN:VEVENT
DTSTART;TZID=America/Chicago:20250725T080000
DTEND;TZID=America/Chicago:20250725T170000
DTSTAMP:20260422T172809
CREATED:20240911T134539Z
LAST-MODIFIED:20240911T134539Z
UID:10000109-1753430400-1753462800@employees.roundrocktexas.gov
SUMMARY:Pay Date 07/25/25
DESCRIPTION:Pay Day covering the period: 07/06/25 – 07/19/25
URL:https://employees.roundrocktexas.gov/event/pay-date-07-25-25/
LOCATION:Round Rock\, TX\, 78664\, United States
GEO:30.5041381;-97.6602365
END:VEVENT
BEGIN:VEVENT
DTSTART;TZID=America/Chicago:20250718T120000
DTEND;TZID=America/Chicago:20250718T120000
DTSTAMP:20260422T172809
CREATED:20240911T134056Z
LAST-MODIFIED:20240911T134056Z
UID:10000108-1752840000-1752840000@employees.roundrocktexas.gov
SUMMARY:Time Sheets Due for 07/25/25 Pay Date
DESCRIPTION:Timesheets are due by noon for pay period: 07/06/25 – 07/19/25
URL:https://employees.roundrocktexas.gov/event/time-sheets-due-for-07-25-25-pay-date/
LOCATION:Round Rock\, TX\, 78664\, United States
GEO:30.5041381;-97.6602365
END:VEVENT
BEGIN:VEVENT
DTSTART;TZID=America/Chicago:20250711T080000
DTEND;TZID=America/Chicago:20250711T170000
DTSTAMP:20260422T172809
CREATED:20240910T195616Z
LAST-MODIFIED:20240910T195616Z
UID:10000107-1752220800-1752253200@employees.roundrocktexas.gov
SUMMARY:Pay Date 07/11/25
DESCRIPTION:Pay Day covering the period: 06/22/25 – 07/05/25
URL:https://employees.roundrocktexas.gov/event/pay-date-07-11-25/
LOCATION:Round Rock\, TX\, 78664\, United States
GEO:30.5041381;-97.6602365
END:VEVENT
BEGIN:VEVENT
DTSTART;TZID=America/Chicago:20250702T120000
DTEND;TZID=America/Chicago:20250702T120000
DTSTAMP:20260422T172809
CREATED:20240910T195449Z
LAST-MODIFIED:20240910T195449Z
UID:10000106-1751457600-1751457600@employees.roundrocktexas.gov
SUMMARY:Time Sheets Due EARLY for 07/11/25 Pay Date
DESCRIPTION:Timesheets are EARLY at noon for pay period: 06/22/25 – 07/05/25
URL:https://employees.roundrocktexas.gov/event/time-sheets-due-early-for-07-11-25-pay-date/
LOCATION:Round Rock\, TX\, 78664\, United States
GEO:30.5041381;-97.6602365
END:VEVENT
BEGIN:VEVENT
DTSTART;TZID=America/Chicago:20250627T080000
DTEND;TZID=America/Chicago:20250627T170000
DTSTAMP:20260422T172809
CREATED:20240910T195041Z
LAST-MODIFIED:20240910T195041Z
UID:10000105-1751011200-1751043600@employees.roundrocktexas.gov
SUMMARY:Pay Date 06/27/25
DESCRIPTION:Pay Day covering the period: 06/08/25 – 06/21/25
URL:https://employees.roundrocktexas.gov/event/pay-date-06-27-25/
LOCATION:Round Rock\, TX\, 78664\, United States
GEO:30.5041381;-97.6602365
END:VEVENT
BEGIN:VEVENT
DTSTART;TZID=America/Chicago:20250620T120000
DTEND;TZID=America/Chicago:20250620T120000
DTSTAMP:20260422T172809
CREATED:20240910T194919Z
LAST-MODIFIED:20240910T194919Z
UID:10000094-1750420800-1750420800@employees.roundrocktexas.gov
SUMMARY:Time Sheets Due for 06/27/25 Pay Date
DESCRIPTION:Timesheets are due by noon for period: 06/08/25 – 06/21/25
URL:https://employees.roundrocktexas.gov/event/time-sheets-due-for-06-27-25-pay-date/
LOCATION:Round Rock\, TX\, 78664\, United States
GEO:30.5041381;-97.6602365
END:VEVENT
BEGIN:VEVENT
DTSTART;TZID=America/Chicago:20250613T080000
DTEND;TZID=America/Chicago:20250613T170000
DTSTAMP:20260422T172809
CREATED:20240910T194719Z
LAST-MODIFIED:20240910T194719Z
UID:10000093-1749801600-1749834000@employees.roundrocktexas.gov
SUMMARY:Pay Date 06/13/25
DESCRIPTION:Pay Day covering the period 05/25/25 – 06/07/25
URL:https://employees.roundrocktexas.gov/event/pay-date-06-13-25/
LOCATION:Round Rock\, TX\, 78664\, United States
GEO:30.5041381;-97.6602365
END:VEVENT
BEGIN:VEVENT
DTSTART;TZID=America/Chicago:20250606T120000
DTEND;TZID=America/Chicago:20250606T120000
DTSTAMP:20260422T172809
CREATED:20240910T194528Z
LAST-MODIFIED:20240910T194528Z
UID:10000092-1749211200-1749211200@employees.roundrocktexas.gov
SUMMARY:Time Sheets Due for 06/13/25 Pay Date
DESCRIPTION:Timesheets are due by noon for pay period: 05/25/25 – 06/07/25
URL:https://employees.roundrocktexas.gov/event/time-sheets-due-for-06-13-25-pay-date/
LOCATION:Round Rock\, TX\, 78664\, United States
GEO:30.5041381;-97.6602365
END:VEVENT
END:VCALENDAR